BEGIN:VCALENDAR
VERSION:2.0
PRODID:-//THREEDOM - die Band für dein Event//NONSGML kigkonsult.se iCalcreator 2.41.92//
CALSCALE:GREGORIAN
METHOD:PUBLISH
UID:65353165-3532-4333-a234-396135633437
X-WR-CALNAME:iCagenda
X-WR-CALDESC:Event Management Extension for Joomla!
X-WR-RELCALID:3E26604A-50F4-4449-8B3E-E4F4932D05B5
X-WR-TIMEZONE:UTC
BEGIN:VTIMEZONE
TZID:UTC
END:VTIMEZONE
BEGIN:VEVENT
UID:62623633-3530-4336-b637-616231313966
DTSTAMP:20260421T154119Z
CATEGORIES:Veranstaltungen
CLASS:PUBLIC
DESCRIPTION;ALTREP="CID:<FFFF__=0ABBE548DFE235B58f9e8a93d@coffeebean.com>":
 Für alle\, die uns in 2025 verpassten\, kommen wir in 2026 erneut nach Has
 ten.
DTSTART:20260627T190000Z
DTEND:20260627T220000Z
GEO:+51.192184;+7.170817
LOCATION:Open Air Bühne
ORGANIZER:
SEQUENCE:1
SUMMARY:THREEDOM LIVE in Remscheid Hasten
TRANSP:OPAQUE
URL:https://www.threedom-band.de/termine/aktuelle-termine/threedom-live-in-
 remscheid-hasten
END:VEVENT
END:VCALENDAR
