BEGIN:VCALENDAR
VERSION:2.0
PRODID:-//THREEDOM - die Band für dein Event//NONSGML kigkonsult.se iCalcreator 2.41.92//
CALSCALE:GREGORIAN
METHOD:PUBLISH
UID:36383366-3965-4832-a631-396132373863
X-WR-CALNAME:iCagenda
X-WR-CALDESC:Event Management Extension for Joomla!
X-WR-RELCALID:3E26604A-50F4-4449-8B3E-E4F4932D05B5
X-WR-TIMEZONE:UTC
BEGIN:VTIMEZONE
TZID:UTC
END:VTIMEZONE
BEGIN:VEVENT
UID:31663731-3765-4137-b664-626137333162
DTSTAMP:20260421T151730Z
CATEGORIES:Veranstaltungen
CLASS:PUBLIC
DESCRIPTION;ALTREP="CID:<FFFF__=0ABBE548DFE235B58f9e8a93d@coffeebean.com>":
 Zieht euch warm an\, denn auch in diesem Jahr geht es mit THREEDOM ab in d
 en Steinbruch!\nWir freuen uns auf das Glühweinfest!\nWarmer Glühwein\, to
 lle Menschen\, tolle Musik - was will man mehr?\n&nbsp\;
DTSTART:20261114T180000Z
DTEND:20261114T220000Z
GEO:+50.56562;+7.487286
LOCATION:Steinbruch
ORGANIZER:
SEQUENCE:1
SUMMARY:THREEDOM LIVE in Hümmerich
TRANSP:OPAQUE
URL:https://www.threedom-band.de/termine/aktuelle-termine/threedom-live-in-
 huemmerich
END:VEVENT
END:VCALENDAR
